BEGIN:VCALENDAR
VERSION:2.0
PRODID:-//Findlay Digital Academy - ECPv6.15.16//NONSGML v1.0//EN
CALSCALE:GREGORIAN
METHOD:PUBLISH
X-WR-CALNAME:Findlay Digital Academy
X-ORIGINAL-URL:https://findlaydigitalacademy.com
X-WR-CALDESC:Events for Findlay Digital Academy
REFRESH-INTERVAL;VALUE=DURATION:PT1H
X-Robots-Tag:noindex
X-PUBLISHED-TTL:PT1H
BEGIN:VTIMEZONE
TZID:UTC
BEGIN:STANDARD
TZOFFSETFROM:+0000
TZOFFSETTO:+0000
TZNAME:UTC
DTSTART:20230101T000000
END:STANDARD
END:VTIMEZONE
BEGIN:VEVENT
DTSTART;VALUE=DATE:20241125
DTEND;VALUE=DATE:20241127
DTSTAMP:20260419T130310
CREATED:20240529T182520Z
LAST-MODIFIED:20240529T182520Z
UID:10000158-1732492800-1732665599@findlaydigitalacademy.com
SUMMARY:Parent/Teacher Conferences
DESCRIPTION:
URL:https://findlaydigitalacademy.com/event/parent-teacher-conferences-3/
END:VEVENT
BEGIN:VEVENT
DTSTART;TZID=UTC:20241125T150000
DTEND;TZID=UTC:20241125T160000
DTSTAMP:20260419T130310
CREATED:20241015T192316Z
LAST-MODIFIED:20241015T192316Z
UID:10000259-1732546800-1732550400@findlaydigitalacademy.com
SUMMARY:Take & Bake
DESCRIPTION:
URL:https://findlaydigitalacademy.com/event/take-bake/
END:VEVENT
BEGIN:VEVENT
DTSTART;VALUE=DATE:20241127
DTEND;VALUE=DATE:20241130
DTSTAMP:20260419T130310
CREATED:20240529T181319Z
LAST-MODIFIED:20240529T181319Z
UID:10000147-1732665600-1732924799@findlaydigitalacademy.com
SUMMARY:NO SCHOOL
DESCRIPTION:
URL:https://findlaydigitalacademy.com/event/no-school-21/
END:VEVENT
END:VCALENDAR