BEGIN:VCALENDAR
VERSION:2.0
PRODID:-//Findlay Digital Academy - ECPv6.15.16//NONSGML v1.0//EN
CALSCALE:GREGORIAN
METHOD:PUBLISH
X-ORIGINAL-URL:https://findlaydigitalacademy.com
X-WR-CALDESC:Events for Findlay Digital Academy
REFRESH-INTERVAL;VALUE=DURATION:PT1H
X-Robots-Tag:noindex
X-PUBLISHED-TTL:PT1H
BEGIN:VTIMEZONE
TZID:UTC
BEGIN:STANDARD
TZOFFSETFROM:+0000
TZOFFSETTO:+0000
TZNAME:UTC
DTSTART:20230101T000000
END:STANDARD
END:VTIMEZONE
BEGIN:VEVENT
DTSTART;VALUE=DATE:20241014
DTEND;VALUE=DATE:20241015
DTSTAMP:20260425T113937
CREATED:20240529T180420Z
LAST-MODIFIED:20240529T180420Z
UID:10000145-1728864000-1728950399@findlaydigitalacademy.com
SUMMARY:NO SCHOOL
DESCRIPTION:
URL:https://findlaydigitalacademy.com/event/no-school-20/
END:VEVENT
BEGIN:VEVENT
DTSTART;VALUE=DATE:20241016
DTEND;VALUE=DATE:20241017
DTSTAMP:20260425T113937
CREATED:20240529T180530Z
LAST-MODIFIED:20240529T180530Z
UID:10000146-1729036800-1729123199@findlaydigitalacademy.com
SUMMARY:End of 1st Quarter
DESCRIPTION:
URL:https://findlaydigitalacademy.com/event/end-of-1st-quarter/
END:VEVENT
END:VCALENDAR