BEGIN:VCALENDAR
VERSION:2.0
PRODID:-//Findlay Digital Academy - ECPv6.15.16//NONSGML v1.0//EN
CALSCALE:GREGORIAN
METHOD:PUBLISH
X-ORIGINAL-URL:https://findlaydigitalacademy.com
X-WR-CALDESC:Events for Findlay Digital Academy
REFRESH-INTERVAL;VALUE=DURATION:PT1H
X-Robots-Tag:noindex
X-PUBLISHED-TTL:PT1H
BEGIN:VTIMEZONE
TZID:UTC
BEGIN:STANDARD
TZOFFSETFROM:+0000
TZOFFSETTO:+0000
TZNAME:UTC
DTSTART:20210101T000000
END:STANDARD
END:VTIMEZONE
BEGIN:VEVENT
DTSTART;TZID=UTC:20220915T163000
DTEND;TZID=UTC:20220915T183000
DTSTAMP:20260420T105706
CREATED:20221201T163335Z
LAST-MODIFIED:20221201T163335Z
UID:10000025-1663259400-1663266600@findlaydigitalacademy.com
SUMMARY:Self Care
DESCRIPTION:
URL:https://findlaydigitalacademy.com/event/self-care/
END:VEVENT
BEGIN:VEVENT
DTSTART;TZID=UTC:20220919T130000
DTEND;TZID=UTC:20220919T150000
DTSTAMP:20260420T105707
CREATED:20221201T163615Z
LAST-MODIFIED:20221201T163615Z
UID:10000026-1663592400-1663599600@findlaydigitalacademy.com
SUMMARY:FDA Open House
DESCRIPTION:
URL:https://findlaydigitalacademy.com/event/fda-open-house/
END:VEVENT
BEGIN:VEVENT
DTSTART;TZID=UTC:20220919T150000
DTEND;TZID=UTC:20220919T160000
DTSTAMP:20260420T105707
CREATED:20221201T163755Z
LAST-MODIFIED:20221201T163755Z
UID:10000027-1663599600-1663603200@findlaydigitalacademy.com
SUMMARY:FDA Title I Meeting
DESCRIPTION:
URL:https://findlaydigitalacademy.com/event/fda-title-i-meeting/
END:VEVENT
BEGIN:VEVENT
DTSTART;TZID=UTC:20220920T120000
DTEND;TZID=UTC:20220920T130000
DTSTAMP:20260420T105707
CREATED:20221201T163934Z
LAST-MODIFIED:20221201T163934Z
UID:10000028-1663675200-1663678800@findlaydigitalacademy.com
SUMMARY:Student Parenting Group
DESCRIPTION:
URL:https://findlaydigitalacademy.com/event/student-parenting-group/
END:VEVENT
BEGIN:VEVENT
DTSTART;VALUE=DATE:20220928
DTEND;VALUE=DATE:20220929
DTSTAMP:20260420T105707
CREATED:20221201T164122Z
LAST-MODIFIED:20221201T164122Z
UID:10000029-1664323200-1664409599@findlaydigitalacademy.com
SUMMARY:Parent/Student Graduation Meeting
DESCRIPTION:Meetings at 10 a.m. and 4 p.m.
URL:https://findlaydigitalacademy.com/event/parent-student-graduation-meeting/
END:VEVENT
BEGIN:VEVENT
DTSTART;TZID=UTC:20220928T163000
DTEND;TZID=UTC:20221201T180000
DTSTAMP:20260420T105707
CREATED:20221201T164316Z
LAST-MODIFIED:20221201T164316Z
UID:10000030-1664382600-1669917600@findlaydigitalacademy.com
SUMMARY:Coffee Amici/Game Night
DESCRIPTION:
URL:https://findlaydigitalacademy.com/event/coffee-amici-game-night-2/
END:VEVENT
BEGIN:VEVENT
DTSTART;TZID=UTC:20221013T163000
DTEND;TZID=UTC:20221013T180000
DTSTAMP:20260420T105707
CREATED:20221201T164503Z
LAST-MODIFIED:20221201T164503Z
UID:10000031-1665678600-1665684000@findlaydigitalacademy.com
SUMMARY:Paint a Pumpkin
DESCRIPTION:
URL:https://findlaydigitalacademy.com/event/paint-a-pumpkin/
END:VEVENT
BEGIN:VEVENT
DTSTART;TZID=UTC:20221102T130000
DTEND;TZID=UTC:20221102T140000
DTSTAMP:20260420T105707
CREATED:20221201T164642Z
LAST-MODIFIED:20221201T164642Z
UID:10000032-1667394000-1667397600@findlaydigitalacademy.com
SUMMARY:Public Hearing Regarding Federal Funds
DESCRIPTION:
URL:https://findlaydigitalacademy.com/event/public-hearing-regarding-federal-funds/
END:VEVENT
BEGIN:VEVENT
DTSTART;VALUE=DATE:20221114
DTEND;VALUE=DATE:20221115
DTSTAMP:20260420T105707
CREATED:20221201T165018Z
LAST-MODIFIED:20221201T165018Z
UID:10000033-1668384000-1668470399@findlaydigitalacademy.com
SUMMARY:Algebra Test Prep
DESCRIPTION:Nov. 14 at 11 a.m. \nNov. 16 at 4 p.m.
URL:https://findlaydigitalacademy.com/event/algebra-test-prep/
END:VEVENT
BEGIN:VEVENT
DTSTART;TZID=UTC:20221114T130000
DTEND;TZID=UTC:20221114T140000
DTSTAMP:20260420T105707
CREATED:20221201T165151Z
LAST-MODIFIED:20221201T165151Z
UID:10000034-1668430800-1668434400@findlaydigitalacademy.com
SUMMARY:Student Advisory Council
DESCRIPTION:
URL:https://findlaydigitalacademy.com/event/student-advisory-council/
END:VEVENT
BEGIN:VEVENT
DTSTART;VALUE=DATE:20221115
DTEND;VALUE=DATE:20221116
DTSTAMP:20260420T105707
CREATED:20221201T165353Z
LAST-MODIFIED:20221207T172717Z
UID:10000035-1668470400-1668556799@findlaydigitalacademy.com
SUMMARY:English 2 Test Prep
DESCRIPTION:Nov. 15 at 4 p.m. \nNov. 17 at 11 a.m.
URL:https://findlaydigitalacademy.com/event/english-2-test-prep/
END:VEVENT
BEGIN:VEVENT
DTSTART;TZID=UTC:20221122T163000
DTEND;TZID=UTC:20221122T163000
DTSTAMP:20260420T105707
CREATED:20221107T164027Z
LAST-MODIFIED:20221107T164027Z
UID:10000022-1669134600-1669134600@findlaydigitalacademy.com
SUMMARY:Take and Bake
DESCRIPTION:
URL:https://findlaydigitalacademy.com/event/take-and-bake/
LOCATION:Findlay Digital Academy\, 1219 West Main Cross Suite 101\, Findlay\, 45840\, United States
END:VEVENT
BEGIN:VEVENT
DTSTART;TZID=UTC:20221130T100000
DTEND;TZID=UTC:20221130T160000
DTSTAMP:20260420T105707
CREATED:20221207T173022Z
LAST-MODIFIED:20221207T173832Z
UID:10000041-1669802400-1669824000@findlaydigitalacademy.com
SUMMARY:English 2 State Exam
DESCRIPTION:
URL:https://findlaydigitalacademy.com/event/english-state-exam/2022-11-30/
END:VEVENT
BEGIN:VEVENT
DTSTART;TZID=UTC:20221201T100000
DTEND;TZID=UTC:20221207T160000
DTSTAMP:20260420T105707
CREATED:20221207T173259Z
LAST-MODIFIED:20221207T173506Z
UID:10000042-1669888800-1670428800@findlaydigitalacademy.com
SUMMARY:Algebra 1 State Exam
DESCRIPTION:
URL:https://findlaydigitalacademy.com/event/algebra-1-state-exam/2022-12-01/
END:VEVENT
BEGIN:VEVENT
DTSTART;TZID=UTC:20221201T183000
DTEND;TZID=UTC:20221201T200000
DTSTAMP:20260420T105707
CREATED:20221107T163822Z
LAST-MODIFIED:20221107T163822Z
UID:10000021-1669919400-1669924800@findlaydigitalacademy.com
SUMMARY:Millstream Open House
DESCRIPTION:Check out the many programs Millstream has to offer.
URL:https://findlaydigitalacademy.com/event/millstream-open-house/
END:VEVENT
BEGIN:VEVENT
DTSTART;TZID=UTC:20221205T100000
DTEND;TZID=UTC:20221205T160000
DTSTAMP:20260420T105707
CREATED:20221207T173022Z
LAST-MODIFIED:20221207T173832Z
UID:10000044-1670234400-1670256000@findlaydigitalacademy.com
SUMMARY:English 2 State Exam
DESCRIPTION:
URL:https://findlaydigitalacademy.com/event/english-state-exam/2022-12-05/
END:VEVENT
BEGIN:VEVENT
DTSTART;TZID=UTC:20221206T100000
DTEND;TZID=UTC:20221206T160000
DTSTAMP:20260420T105707
CREATED:20221207T173259Z
LAST-MODIFIED:20221207T173506Z
UID:10000043-1670320800-1670342400@findlaydigitalacademy.com
SUMMARY:Algebra 1 State Exam
DESCRIPTION:
URL:https://findlaydigitalacademy.com/event/algebra-1-state-exam/2022-12-06/
END:VEVENT
BEGIN:VEVENT
DTSTART;TZID=UTC:20221207T100000
DTEND;TZID=UTC:20221207T160000
DTSTAMP:20260420T105707
CREATED:20221207T174230Z
LAST-MODIFIED:20221207T174254Z
UID:10000045-1670407200-1670428800@findlaydigitalacademy.com
SUMMARY:American Goverment State Exams
DESCRIPTION:
URL:https://findlaydigitalacademy.com/event/american-goverment-state-exams/
LOCATION:Findlay Digital Academy\, 1219 West Main Cross Suite 101\, Findlay\, 45840\, United States
END:VEVENT
BEGIN:VEVENT
DTSTART;TZID=UTC:20221207T183000
DTEND;TZID=UTC:20221207T200000
DTSTAMP:20260420T105707
CREATED:20221107T164428Z
LAST-MODIFIED:20221107T164428Z
UID:10000023-1670437800-1670443200@findlaydigitalacademy.com
SUMMARY:Coffee Amici/Game Night
DESCRIPTION:Join us for a fun night of games and laughs!
URL:https://findlaydigitalacademy.com/event/coffee-amici-game-night/
LOCATION:Coffee Amici\, 328 S. Main Street\, Findlay\, OH\, United States
END:VEVENT
BEGIN:VEVENT
DTSTART;TZID=UTC:20221208T100000
DTEND;TZID=UTC:20221208T160000
DTSTAMP:20260420T105707
CREATED:20221207T174427Z
LAST-MODIFIED:20221207T174427Z
UID:10000046-1670493600-1670515200@findlaydigitalacademy.com
SUMMARY:American History State Exams
DESCRIPTION:
URL:https://findlaydigitalacademy.com/event/american-history-state-exams/
LOCATION:Findlay Digital Academy\, 1219 West Main Cross Suite 101\, Findlay\, 45840\, United States
END:VEVENT
BEGIN:VEVENT
DTSTART;TZID=UTC:20221213T100000
DTEND;TZID=UTC:20221213T160000
DTSTAMP:20260420T105707
CREATED:20221207T174553Z
LAST-MODIFIED:20221207T174553Z
UID:10000047-1670925600-1670947200@findlaydigitalacademy.com
SUMMARY:Biology State Exams
DESCRIPTION:
URL:https://findlaydigitalacademy.com/event/biology-state-exams/
LOCATION:Findlay Digital Academy\, 1219 West Main Cross Suite 101\, Findlay\, 45840\, United States
END:VEVENT
BEGIN:VEVENT
DTSTART;TZID=UTC:20221214T100000
DTEND;TZID=UTC:20221214T160000
DTSTAMP:20260420T105707
CREATED:20221207T174738Z
LAST-MODIFIED:20221207T174738Z
UID:10000048-1671012000-1671033600@findlaydigitalacademy.com
SUMMARY:Geometry State Exams
DESCRIPTION:
URL:https://findlaydigitalacademy.com/event/geometry-state-exams/
LOCATION:Findlay Digital Academy\, 1219 West Main Cross Suite 101\, Findlay\, 45840\, United States
END:VEVENT
BEGIN:VEVENT
DTSTART;TZID=UTC:20221214T163000
DTEND;TZID=UTC:20221214T180000
DTSTAMP:20260420T105707
CREATED:20221207T174853Z
LAST-MODIFIED:20221207T174853Z
UID:10000049-1671035400-1671040800@findlaydigitalacademy.com
SUMMARY:Holiday Gift Making
DESCRIPTION:
URL:https://findlaydigitalacademy.com/event/holiday-gift-making-2/
LOCATION:Findlay Digital Academy\, 1219 West Main Cross Suite 101\, Findlay\, 45840\, United States
END:VEVENT
BEGIN:VEVENT
DTSTART;VALUE=DATE:20230110
DTEND;VALUE=DATE:20230111
DTSTAMP:20260420T105707
CREATED:20221213T140619Z
LAST-MODIFIED:20221213T140619Z
UID:10000050-1673308800-1673395199@findlaydigitalacademy.com
SUMMARY:2nd Nine Weeks Ends
DESCRIPTION:
URL:https://findlaydigitalacademy.com/event/2nd-nine-weeks-ends/
END:VEVENT
BEGIN:VEVENT
DTSTART;VALUE=DATE:20230111
DTEND;VALUE=DATE:20230112
DTSTAMP:20260420T105707
CREATED:20221213T140711Z
LAST-MODIFIED:20221213T140711Z
UID:10000051-1673395200-1673481599@findlaydigitalacademy.com
SUMMARY:Third Nine Week Period Begins
DESCRIPTION:
URL:https://findlaydigitalacademy.com/event/third-nine-week-period-begins/
END:VEVENT
BEGIN:VEVENT
DTSTART;VALUE=DATE:20230116
DTEND;VALUE=DATE:20230117
DTSTAMP:20260420T105707
CREATED:20221213T141453Z
LAST-MODIFIED:20221213T141453Z
UID:10000058-1673827200-1673913599@findlaydigitalacademy.com
SUMMARY:FDA Closed
DESCRIPTION:Martin Luther King Jr. Day
URL:https://findlaydigitalacademy.com/event/fda-closed/
END:VEVENT
BEGIN:VEVENT
DTSTART;TZID=UTC:20230202T120000
DTEND;TZID=UTC:20230202T130000
DTSTAMP:20260420T105707
CREATED:20230117T202611Z
LAST-MODIFIED:20230117T202611Z
UID:10000065-1675339200-1675342800@findlaydigitalacademy.com
SUMMARY:Board Meeting
DESCRIPTION:
URL:https://findlaydigitalacademy.com/event/board-meeting/
LOCATION:Findlay Digital Academy\, 1219 West Main Cross Suite 101\, Findlay\, 45840\, United States
END:VEVENT
BEGIN:VEVENT
DTSTART;VALUE=DATE:20230213
DTEND;VALUE=DATE:20230214
DTSTAMP:20260420T105707
CREATED:20221213T140847Z
LAST-MODIFIED:20221213T140847Z
UID:10000053-1676246400-1676332799@findlaydigitalacademy.com
SUMMARY:Midterm
DESCRIPTION:
URL:https://findlaydigitalacademy.com/event/midterm/
END:VEVENT
BEGIN:VEVENT
DTSTART;VALUE=DATE:20230220
DTEND;VALUE=DATE:20230221
DTSTAMP:20260420T105707
CREATED:20221213T141550Z
LAST-MODIFIED:20221213T141550Z
UID:10000059-1676851200-1676937599@findlaydigitalacademy.com
SUMMARY:FDA Closed
DESCRIPTION:President’s Day
URL:https://findlaydigitalacademy.com/event/fda-closed-2/
END:VEVENT
BEGIN:VEVENT
DTSTART;TZID=UTC:20230301T170000
DTEND;TZID=UTC:20230301T170000
DTSTAMP:20260420T105707
CREATED:20230228T175532Z
LAST-MODIFIED:20230228T175532Z
UID:10000072-1677690000-1677690000@findlaydigitalacademy.com
SUMMARY:Special Board Meeting
DESCRIPTION:
URL:https://findlaydigitalacademy.com/event/special-board-meeting/
LOCATION:Findlay Digital Academy\, 1219 West Main Cross Suite 101\, Findlay\, 45840\, United States
END:VEVENT
END:VCALENDAR