BEGIN:VCALENDAR
VERSION:2.0
PRODID:-//Findlay Digital Academy - ECPv6.15.16//NONSGML v1.0//EN
CALSCALE:GREGORIAN
METHOD:PUBLISH
X-ORIGINAL-URL:https://findlaydigitalacademy.com
X-WR-CALDESC:Events for Findlay Digital Academy
REFRESH-INTERVAL;VALUE=DURATION:PT1H
X-Robots-Tag:noindex
X-PUBLISHED-TTL:PT1H
BEGIN:VTIMEZONE
TZID:UTC
BEGIN:STANDARD
TZOFFSETFROM:+0000
TZOFFSETTO:+0000
TZNAME:UTC
DTSTART:20240101T000000
END:STANDARD
END:VTIMEZONE
BEGIN:VEVENT
DTSTART;VALUE=DATE:20250813
DTEND;VALUE=DATE:20250814
DTSTAMP:20260422T104705
CREATED:20250806T181713Z
LAST-MODIFIED:20250806T181713Z
UID:10000270-1755043200-1755129599@findlaydigitalacademy.com
SUMMARY:First Day of School
DESCRIPTION:
URL:https://findlaydigitalacademy.com/event/first-day-of-school-3/
END:VEVENT
END:VCALENDAR